BEGIN:VCALENDAR
VERSION:2.0
PRODID:-//G.O. Miami Beach - ECPv4.9.2//NONSGML v1.0//EN
CALSCALE:GREGORIAN
METHOD:PUBLISH
X-WR-CALNAME:G.O. Miami Beach
X-ORIGINAL-URL:https://www.gombinfo.com
X-WR-CALDESC:Events for G.O. Miami Beach
BEGIN:VEVENT
DTSTART;TZID=UTC+0:20261105T160000
DTEND;TZID=UTC+0:20261105T180000
DTSTAMP:20260425T132231
CREATED:20260206T215201Z
LAST-MODIFIED:20260209T151725Z
UID:11664-1793894400-1793901600@www.gombinfo.com
SUMMARY:G.O. Bond Oversight Committee Meeting
DESCRIPTION:Join Zoom Meeting: https://us02web.zoom.us/j/7265621380?omn=88619478810\nMeeting ID: 726 562 1380\nDial in:\n+13052241968\,\,7265621380# US \n
URL:https://www.gombinfo.com/events/g-o-bond-oversight-committee-meeting-59/
CATEGORIES:Yes2Arts Events
END:VEVENT
END:VCALENDAR